BEGIN:VCALENDAR
VERSION:2.0
PRODID:spatie/icalendar-generator
DESCRIPTION:Évènements de Chass&amp;#039\;Info
X-WR-CALDESC:Évènements de Chass&amp;#039\;Info
REFRESH-INTERVAL;VALUE=DURATION:PT1440M
X-PUBLISHED-TTL:PT1440M
BEGIN:VTIMEZONE
TZID:Europe/Paris
BEGIN:DAYLIGHT
DTSTART:20250330T020000Z
TZOFFSETFROM:+0100
TZOFFSETTO:+0200
END:DAYLIGHT
BEGIN:STANDARD
DTSTART:20251026T030000Z
TZOFFSETFROM:+0200
TZOFFSETTO:+0100
END:STANDARD
BEGIN:DAYLIGHT
DTSTART:20260329T020000Z
TZOFFSETFROM:+0100
TZOFFSETTO:+0200
END:DAYLIGHT
END:VTIMEZONE
BEGIN:VTIMEZONE
TZID:UTC
BEGIN:STANDARD
DTSTART:20250729T142043Z
TZOFFSETFROM:+0000
TZOFFSETTO:+0000
END:STANDARD
END:VTIMEZONE
BEGIN:VEVENT
UID:707-14
DTSTAMP:20260425T142043Z
SUMMARY:Psycho-Etterbeek
LOCATION:Chass\\'Info Chaussée de Wavre 708  Etterbeek  1040
ORGANIZER;CN=Pauline:MAILTO:pauline@chassinfo.be
RRULE:FREQ=WEEKLY;UNTIL=20251129T000000Z
DTSTART;TZID=Europe/Paris:20251127T150000
DTEND;TZID=Europe/Paris:20251127T170000
X-ALT-DESC;FMTTYPE=TEXT/HTML:Permanence SANS RENDEZ-VOUS du SSM Psycho-Ett
 erbeek qui propose des consultations de bien-être mental. Besoin de parle
 r\, de souffer\, de soutien ? L'équipe du SSM t'accueille et t'écoute gr
 atuitement. Evaluation de la situation. Suivi potentiel à l'issue du prem
 ier entretien Orientation vers les services spécialisés en santé mental
 e si nécessaire &amp;nbsp\;
CATEGORIES:General
URL;VALUE=URI:https://chassinfo.be/mc-events/psycho-etterbeek/?mc_id=707
END:VEVENT
END:VCALENDAR