BEGIN:VCALENDAR
VERSION:2.0
PRODID:spatie/icalendar-generator
DESCRIPTION:Évènements de Chass&amp;#039\;Info
X-WR-CALDESC:Évènements de Chass&amp;#039\;Info
REFRESH-INTERVAL;VALUE=DURATION:PT1440M
X-PUBLISHED-TTL:PT1440M
BEGIN:VTIMEZONE
TZID:Europe/Paris
BEGIN:DAYLIGHT
DTSTART:20250330T020000Z
TZOFFSETFROM:+0100
TZOFFSETTO:+0200
END:DAYLIGHT
BEGIN:STANDARD
DTSTART:20251026T030000Z
TZOFFSETFROM:+0200
TZOFFSETTO:+0100
END:STANDARD
BEGIN:DAYLIGHT
DTSTART:20260329T020000Z
TZOFFSETFROM:+0100
TZOFFSETTO:+0200
END:DAYLIGHT
END:VTIMEZONE
BEGIN:VTIMEZONE
TZID:UTC
BEGIN:STANDARD
DTSTART:20250729T154803Z
TZOFFSETFROM:+0000
TZOFFSETTO:+0000
END:STANDARD
END:VTIMEZONE
BEGIN:VEVENT
UID:636-13
DTSTAMP:20260425T154803Z
SUMMARY:IJ-BXL (Jobcoaching)
LOCATION:Chass\\'Info Chaussée de Wavre 708  Etterbeek  1040
ORGANIZER;CN=Pauline:MAILTO:pauline@chassinfo.be
RRULE:FREQ=WEEKLY;UNTIL=20251129T000000Z
DTSTART;TZID=Europe/Paris:20251124T100000
DTEND;TZID=Europe/Paris:20251124T170000
X-ALT-DESC;FMTTYPE=TEXT/HTML:Service job coaching d'Infor Jeunes Bruxelles 
 SUR RENDEZ-VOUS (tél. : 0471/95.11.38) Tu habites à Bruxelles et tu as e
 ntre 18 et 29 ans ? Avec notre Jobcoach d'IJ-BXL: tu fais le point sur ta 
 situation et tes projets tu rédiges un CV impactant tu bosses tes entreti
 ens tu développes tes compétences tu reprends confiance en…
CATEGORIES:General
URL;VALUE=URI:https://chassinfo.be/mc-events/ij-bxl-jobcoaching/?mc_id=636
END:VEVENT
END:VCALENDAR