BEGIN:VCALENDAR
VERSION:2.0
PRODID:spatie/icalendar-generator
DESCRIPTION:Évènements de Chass&amp;#039\;Info
X-WR-CALDESC:Évènements de Chass&amp;#039\;Info
REFRESH-INTERVAL;VALUE=DURATION:PT1440M
X-PUBLISHED-TTL:PT1440M
BEGIN:VTIMEZONE
TZID:Europe/Paris
BEGIN:DAYLIGHT
DTSTART:20250330T020000Z
TZOFFSETFROM:+0100
TZOFFSETTO:+0200
END:DAYLIGHT
BEGIN:STANDARD
DTSTART:20251026T030000Z
TZOFFSETFROM:+0200
TZOFFSETTO:+0100
END:STANDARD
END:VTIMEZONE
BEGIN:VTIMEZONE
TZID:UTC
BEGIN:STANDARD
DTSTART:20250729T153524Z
TZOFFSETFROM:+0000
TZOFFSETTO:+0000
END:STANDARD
END:VTIMEZONE
BEGIN:VEVENT
UID:759-15
DTSTAMP:20260425T153524Z
SUMMARY:Digital Buddies
LOCATION:Chass\\'Info Chaussée de Wavre 708  Etterbeek  1040
ORGANIZER;CN=Pauline:MAILTO:pauline@chassinfo.be
RRULE:FREQ=WEEKLY;UNTIL=20251129T000000Z
DTSTART;TZID=Europe/Paris:20250808T150000
DTEND;TZID=Europe/Paris:20250808T170000
X-ALT-DESC;FMTTYPE=TEXT/HTML:Permanence SANS RENDEZ-VOUS d'aide au numériq
 ue Les assistants numériques (Digital Buddies) prennent le temps de t'acc
 ompagner dans tes démarches en ligne selon tes besoins\, sur les ordinate
 urs mis à disposition ou ton téléphone. Exemples : Création d'une adre
 sse email ou d'un compte \"itsme\" Demande d'allocations d'études ou insc
 ription dans l'enseignement supérieur Prise de rendez-vous en…
CATEGORIES:General
URL;VALUE=URI:https://chassinfo.be/mc-events/digital-buddies/?mc_id=759
END:VEVENT
END:VCALENDAR