BEGIN:VCALENDAR
VERSION:2.0
PRODID:spatie/icalendar-generator
DESCRIPTION:Évènements de Chass&amp;#039\;Info
X-WR-CALDESC:Évènements de Chass&amp;#039\;Info
REFRESH-INTERVAL;VALUE=DURATION:PT1440M
X-PUBLISHED-TTL:PT1440M
BEGIN:VTIMEZONE
TZID:Europe/Paris
BEGIN:DAYLIGHT
DTSTART:20250330T020000Z
TZOFFSETFROM:+0100
TZOFFSETTO:+0200
END:DAYLIGHT
BEGIN:STANDARD
DTSTART:20251026T030000Z
TZOFFSETFROM:+0200
TZOFFSETTO:+0100
END:STANDARD
END:VTIMEZONE
BEGIN:VTIMEZONE
TZID:UTC
BEGIN:STANDARD
DTSTART:20250727T084632Z
TZOFFSETFROM:+0000
TZOFFSETTO:+0000
END:STANDARD
END:VTIMEZONE
BEGIN:VEVENT
UID:378-6
DTSTAMP:20260423T084632Z
SUMMARY:JEEPBxl
LOCATION:Chass\\'Info Chaussée de Wavre 708  Etterbeek  1040
ORGANIZER;CN=Pauline:MAILTO:pauline@chassinfo.be
RRULE:FREQ=WEEKLY;UNTIL=20251126T000000Z
DTSTART;TZID=Europe/Paris:20250813T133000
DTEND;TZID=Europe/Paris:20250813T143000
X-ALT-DESC;FMTTYPE=TEXT/HTML:Service job étudiant SUR RENDEZ-VOUS (tél. :
  0483/27.57.08) Notre jobcoach de JEEPBxl t'aide à : Réaliser un CV attr
 actif et complet Rédiger une lettre de motivation Apprendre à connaître
  tes droits et devoirs en tant que jobiste Te préparer aux démarches et 
 aux entretiens d’embauche Savoir où trouver des offres d'emploi et comm
 ent postuler Identifier…
CATEGORIES:General
URL;VALUE=URI:https://chassinfo.be/mc-events/jeepbxl/?mc_id=378
END:VEVENT
END:VCALENDAR